BEGIN:VCALENDAR
VERSION:2.0
PRODID:-//wp-events-plugin.com//7.2.3.1//EN
TZID:America/New_York
X-WR-TIMEZONE:America/New_York
BEGIN:VEVENT
UID:6677@congregationemanuel.org
DTSTART;TZID=America/New_York:20251107T193000
DTEND;TZID=America/New_York:20251107T203000
DTSTAMP:20251105T152927Z
URL:https://www.congregationemanuel.org/events/shabbat-service-32/
SUMMARY:Shabbat Service
DESCRIPTION:We come together to reflect on our week and welcome Shabbat. 
 Live stream the service here.
END:VEVENT
BEGIN:VTIMEZONE
TZID:America/New_York
X-LIC-LOCATION:America/New_York
BEGIN:STANDARD
DTSTART:20251102T010000
TZOFFSETFROM:-0400
TZOFFSETTO:-0500
TZNAME:EST
END:STANDARD
END:VTIMEZONE
END:VCALENDAR