BEGIN:VCALENDAR
VERSION:2.0
PRODID:-//wp-events-plugin.com//7.2.3.1//EN
TZID:America/New_York
X-WR-TIMEZONE:America/New_York
BEGIN:VEVENT
UID:6596@congregationemanuel.org
DTSTART;TZID=America/New_York:20250926T193000
DTEND;TZID=America/New_York:20250926T203000
DTSTAMP:20250925T133339Z
URL:https://www.congregationemanuel.org/events/shabbat-shuva-7/
SUMMARY:Shabbat Shuva: Sabbath of Repentance
DESCRIPTION:Join us for the Shabbat service that occurs during the Ten Da
 ys of Repentance between Rosh Hashanah and Yom Kippur. This service ca
 n be live streamed here
END:VEVENT
BEGIN:VTIMEZONE
TZID:America/New_York
X-LIC-LOCATION:America/New_York
BEGIN:DAYLIGHT
DTSTART:20250309T030000
TZOFFSETFROM:-0500
TZOFFSETTO:-0400
TZNAME:EDT
END:DAYLIGHT
END:VTIMEZONE
END:VCALENDAR