BEGIN:VCALENDAR
VERSION:2.0
PRODID:-//wp-events-plugin.com//7.2.3.1//EN
TZID:America/New_York
X-WR-TIMEZONE:America/New_York
BEGIN:VEVENT
UID:6639@congregationemanuel.org
DTSTART;TZID=America/New_York:20251014T073000
DTEND;TZID=America/New_York:20251014T081500
DTSTAMP:20251008T135541Z
URL:https://www.congregationemanuel.org/events/shemini-atzeret-yizkor-memo
 rial-service/
SUMMARY:Shemini Atzeret Yizkor Memorial Service
DESCRIPTION:Even amidst our Sukkot celebrations we pause to remember our 
 loved ones who have passed away. They live on through our memories bringin
 g blessing to us all. Live stream the service here.
END:VEVENT
BEGIN:VTIMEZONE
TZID:America/New_York
X-LIC-LOCATION:America/New_York
BEGIN:DAYLIGHT
DTSTART:20250309T030000
TZOFFSETFROM:-0500
TZOFFSETTO:-0400
TZNAME:EDT
END:DAYLIGHT
END:VTIMEZONE
END:VCALENDAR