BEGIN:VCALENDAR
VERSION:2.0
PRODID:-//wp-events-plugin.com//7.2.3.1//EN
TZID:America/New_York
X-WR-TIMEZONE:America/New_York
BEGIN:VEVENT
UID:6644@congregationemanuel.org
DTSTART;TZID=America/New_York:20251017T184500
DTEND;TZID=America/New_York:20251017T200000
DTSTAMP:20251008T135642Z
URL:https://www.congregationemanuel.org/events/simchat-torah-4/
SUMMARY:Simchat Torah
DESCRIPTION:6:00pm Dinner\, 6:45pm Service\n\nJoin us for a delicious Shabb
 at dinner before we come together for our annual Simchat Torah celebrati
 on! Dinner cost: $15/child\, $20/adult or $60/family max. RSVP here. Live
  stream the service here.
END:VEVENT
BEGIN:VTIMEZONE
TZID:America/New_York
X-LIC-LOCATION:America/New_York
BEGIN:DAYLIGHT
DTSTART:20250309T030000
TZOFFSETFROM:-0500
TZOFFSETTO:-0400
TZNAME:EDT
END:DAYLIGHT
END:VTIMEZONE
END:VCALENDAR