BEGIN:VCALENDAR
VERSION:2.0
PRODID:-//wp-events-plugin.com//7.2.3.1//EN
TZID:America/New_York
X-WR-TIMEZONE:America/New_York
BEGIN:VEVENT
UID:6779@congregationemanuel.org
DTSTART;TZID=America/New_York:20260108T200000
DTEND;TZID=America/New_York:20260108T211500
DTSTAMP:20260107T145058Z
URL:https://www.congregationemanuel.org/events/single-malt-torah-29/
SUMMARY:Single Malt Torah
DESCRIPTION:Men of the congregation join together for fine scotch and Tora
 h learning with Rabbi Goldsmith. Topics range from contemporary questions
  of Jewish society to issues in Israel to exploration of our sacred texts.
  Whatever the topic\, we enjoy our time together.
ATTACH;FMTTYPE=image/jpeg:https://www.congregationemanuel.org/wp-content/u
 ploads/2020/10/kiddushclub3web.jpg
CATEGORIES:Featured Events
END:VEVENT
BEGIN:VTIMEZONE
TZID:America/New_York
X-LIC-LOCATION:America/New_York
BEGIN:STANDARD
DTSTART:20251102T010000
TZOFFSETFROM:-0400
TZOFFSETTO:-0500
TZNAME:EST
END:STANDARD
END:VTIMEZONE
END:VCALENDAR