BEGIN:VCALENDAR
VERSION:2.0
PRODID:-//wp-events-plugin.com//7.2.3.1//EN
TZID:America/New_York
X-WR-TIMEZONE:America/New_York
BEGIN:VEVENT
UID:6892@congregationemanuel.org
DTSTART;TZID=America/New_York:20260322T093000
DTEND;TZID=America/New_York:20260322T103000
DTSTAMP:20260318T152245Z
URL:https://www.congregationemanuel.org/events/single-malt-torah-book-club
 -edition-3/
SUMMARY:Single Malt Torah: Book Club Edition - Here All Along by Sarah Hurw
 itz
DESCRIPTION:TThey say that Torah\, most broadly understood\, includes not o
 nly the ancient text in the scrolls in the ark\, but every piece of text t
 hat struggles with ultimate meaning. We enter this meaningful conversation
  with a discussion of Sara Hurwitz’s powerful book: Here All Along. It i
 s a warm\, accessible\, and engaging introduction to Jewish spirituality\,
  ethics\, and tradition from the perspective of someone who had drifted aw
 ay from Judaism only to (re)discover its wisdom as an adult. RSVP required
 .\n\n&nbsp\;
ATTACH;FMTTYPE=image/jpeg:https://www.congregationemanuel.org/wp-content/u
 ploads/2025/07/here-all-along.png
CATEGORIES:Featured Events
END:VEVENT
BEGIN:VTIMEZONE
TZID:America/New_York
X-LIC-LOCATION:America/New_York
BEGIN:DAYLIGHT
DTSTART:20260308T030000
TZOFFSETFROM:-0500
TZOFFSETTO:-0400
TZNAME:EDT
END:DAYLIGHT
END:VTIMEZONE
END:VCALENDAR