BEGIN:VCALENDAR
VERSION:2.0
PRODID:-//wp-events-plugin.com//7.2.3.1//EN
TZID:America/New_York
X-WR-TIMEZONE:America/New_York
BEGIN:VEVENT
UID:6557@congregationemanuel.org
DTSTART;TZID=America/New_York:20250908T200000
DTEND;TZID=America/New_York:20250908T213000
DTSTAMP:20250903T152006Z
URL:https://www.congregationemanuel.org/events/single-malt-torah-book-club
 -edition/
SUMMARY:Single Malt Torah
DESCRIPTION:Men of the congregation join together for fine scotch and Tora
 h learning with Rabbi Goldsmith. Topics range from contemporary questions 
 of Jewish society to issues in Israel to exploration of our sacred texts. 
 Whatever the topic\, we enjoy our time together.
END:VEVENT
BEGIN:VTIMEZONE
TZID:America/New_York
X-LIC-LOCATION:America/New_York
BEGIN:DAYLIGHT
DTSTART:20250309T030000
TZOFFSETFROM:-0500
TZOFFSETTO:-0400
TZNAME:EDT
END:DAYLIGHT
END:VTIMEZONE
END:VCALENDAR