BEGIN:VCALENDAR
VERSION:2.0
PRODID:-//wp-events-plugin.com//7.2.3.1//EN
TZID:America/New_York
X-WR-TIMEZONE:America/New_York
BEGIN:VEVENT
UID:6665@congregationemanuel.org
DTSTART;TZID=America/New_York:20251029T110000
DTEND;TZID=America/New_York:20251029T170000
DTSTAMP:20251029T153437Z
URL:https://www.congregationemanuel.org/events/sisterhood-boutique-5/
SUMMARY:Sisterhood Boutique
DESCRIPTION:This year’s boutique will have all kinds of gifts and goodi
 es that people love for Chanukah (or any occasion): jewelry\, clothing\, a
 rtwork\, stationery\, accessories\, and handmade goods! Open to the commun
 ity - bring your friends and family!
ATTACH;FMTTYPE=image/jpeg:https://www.congregationemanuel.org/wp-content/u
 ploads/2021/07/milwaukee-holiday-boutique_fullsize_story1.png
CATEGORIES:Featured Events
END:VEVENT
BEGIN:VTIMEZONE
TZID:America/New_York
X-LIC-LOCATION:America/New_York
BEGIN:DAYLIGHT
DTSTART:20250309T030000
TZOFFSETFROM:-0500
TZOFFSETTO:-0400
TZNAME:EDT
END:DAYLIGHT
END:VTIMEZONE
END:VCALENDAR