BEGIN:VCALENDAR
VERSION:2.0
PRODID:-//wp-events-plugin.com//7.2.3.1//EN
TZID:America/New_York
X-WR-TIMEZONE:America/New_York
BEGIN:VEVENT
UID:7047@congregationemanuel.org
DTSTART;TZID=America/New_York:20260115T110000
DTEND;TZID=America/New_York:20260115T143000
DTSTAMP:20260114T151445Z
URL:https://www.congregationemanuel.org/events/temple-emanu-el-exhibit-ema
 nu-el-at-180/
SUMMARY:Temple Emanu-El at 180: Docent-Led Tour Explores Jews of the Gilded
  Age at the Bernard Museum of Judaica
DESCRIPTION:(bus will depart from CEW at 9:30am)\n\nJoin us for a tour of t
 he special “Emanu-El at 180” exhibition with Museum Director Warren Kl
 ein\, who will spotlight treasures from Tiffany windows to centuries-old r
 itual art and stories of Jews of the Gilded Age. Along the way\, we will t
 race Emanu-El’s journey from its 1845 Lower East Side beginnings to its 
 iconic home on East 65th Street and its lasting place in American Jewish l
 ife. Cost: $50/person (includes docent tour and transportation). Following
  the tour\, those who are interested are invited to lunch at Barbaresco Re
 staurant. Space is limited\, friends and family are welcome! RSVP here.
END:VEVENT
BEGIN:VTIMEZONE
TZID:America/New_York
X-LIC-LOCATION:America/New_York
BEGIN:STANDARD
DTSTART:20251102T010000
TZOFFSETFROM:-0400
TZOFFSETTO:-0500
TZNAME:EST
END:STANDARD
END:VTIMEZONE
END:VCALENDAR