BEGIN:VCALENDAR
VERSION:2.0
PRODID:-//wp-events-plugin.com//7.2.3.1//EN
TZID:America/New_York
X-WR-TIMEZONE:America/New_York
BEGIN:VEVENT
UID:6551@congregationemanuel.org
DTSTART;TZID=America/New_York:20250905T173000
DTEND;TZID=America/New_York:20250905T180000
DTSTAMP:20250903T181659Z
URL:https://www.congregationemanuel.org/events/tot-shabbat-10/
SUMMARY:Tot Shabbat
DESCRIPTION:5:30pm Tot Shabbat\, 6:00pm BBQ\, 6:45pm Service\n\nFor familie
 s with little ones\, the evening starts off with a joyous Tot Shabbat serv
 ice—friends and family are welcome. Then\, all are invited to Emanu-El
 ’s annual outdoor Shabbat BBQ dinner! Following the al fresco meal\, we 
 will come together in the sanctuary for a lively\, musical service with th
 e temple band. Dinner cost: $15/child\, $20/adult or $60/family max. RSVP
  for Tot Shabbat here. RSVP for dinner here. Live stream the service her
 e.
END:VEVENT
BEGIN:VTIMEZONE
TZID:America/New_York
X-LIC-LOCATION:America/New_York
BEGIN:DAYLIGHT
DTSTART:20250309T030000
TZOFFSETFROM:-0500
TZOFFSETTO:-0400
TZNAME:EDT
END:DAYLIGHT
END:VTIMEZONE
END:VCALENDAR