BEGIN:VCALENDAR
VERSION:2.0
PRODID:-//wp-events-plugin.com//7.2.3.1//EN
TZID:America/New_York
X-WR-TIMEZONE:America/New_York
BEGIN:VEVENT
UID:7046@congregationemanuel.org
DTSTART;TZID=America/New_York:20251117T120000
DTEND;TZID=America/New_York:20251117T153000
DTSTAMP:20251112T154734Z
URL:https://www.congregationemanuel.org/events/trip-to-the-lower-east-side
 -the-kehila-kedosha-janina-synagogue-and-museum/
SUMMARY:The Kehila Kedosha Janina Synagogue & Museum on the Lower East Side
DESCRIPTION:Step into the world of the Romaniote Jews - a remarkable commun
 ity whose roots in Greece stretch back over 2\,300 years to the time of Al
 exander the Great. Visit Kehila Kedosha Janina\, founded in 1906 and still
  standing proudly at 280 Broome Street\, the only Romaniote synagogue in t
 he Western Hemisphere and a living link to this ancient heritage. Cost: $3
 6/person. RSVP here. Interested in carpooling? Contact Jane.
END:VEVENT
BEGIN:VTIMEZONE
TZID:America/New_York
X-LIC-LOCATION:America/New_York
BEGIN:STANDARD
DTSTART:20251102T010000
TZOFFSETFROM:-0400
TZOFFSETTO:-0500
TZNAME:EST
END:STANDARD
END:VTIMEZONE
END:VCALENDAR