BEGIN:VCALENDAR
VERSION:2.0
PRODID:-//wp-events-plugin.com//7.2.3.1//EN
TZID:America/New_York
X-WR-TIMEZONE:America/New_York
BEGIN:VEVENT
UID:6970@congregationemanuel.org
DTSTART;TZID=America/New_York:20251204T113000
DTEND;TZID=America/New_York:20251204T153000
DTSTAMP:20251202T184910Z
URL:https://www.congregationemanuel.org/events/trip-with-jane/
SUMMARY:Postponed: Arriving in America - Portraits of Immigrants at The New
  York Historical Society
DESCRIPTION:
END:VEVENT
BEGIN:VTIMEZONE
TZID:America/New_York
X-LIC-LOCATION:America/New_York
BEGIN:STANDARD
DTSTART:20251102T010000
TZOFFSETFROM:-0400
TZOFFSETTO:-0500
TZNAME:EST
END:STANDARD
END:VTIMEZONE
END:VCALENDAR