BEGIN:VCALENDAR
VERSION:2.0
PRODID:-//wp-events-plugin.com//7.2.3.1//EN
TZID:America/New_York
X-WR-TIMEZONE:America/New_York
BEGIN:VEVENT
UID:6967@congregationemanuel.org
DTSTART;TZID=America/New_York:20251009T113000
DTEND;TZID=America/New_York:20251009T163000
DTSTAMP:20251008T135512Z
URL:https://www.congregationemanuel.org/events/trip/
SUMMARY:Ben Shahn Collection on Non Conformity at the Jewish Museum & Lunch
DESCRIPTION:Ben Shahn’s art captured the big issues of his time\, from th
 e Great Depression to the Vietnam War\, while also reflecting his engageme
 nt with spirituality and Jewish texts. The exhibition features 175 works f
 rom the 1930s–1960s\, including paintings\, prints\, photographs\, and d
 esigns. Together\, they reveal his shift from documentary realism to more 
 poetic\, universal visual language. Cost: $36/person (lunch not included).
  Meet at the museum (1109 5th Ave at 92nd Street\, NY\, NY) or contact Jan
 e about carpooling. Following the tour\, join us for lunch at Lox! RSVP he
 re.
ATTACH;FMTTYPE=image/jpeg:https://www.congregationemanuel.org/wp-content/u
 ploads/2025/07/800-x-600-HHD.png
CATEGORIES:Featured Events
END:VEVENT
BEGIN:VTIMEZONE
TZID:America/New_York
X-LIC-LOCATION:America/New_York
BEGIN:DAYLIGHT
DTSTART:20250309T030000
TZOFFSETFROM:-0500
TZOFFSETTO:-0400
TZNAME:EDT
END:DAYLIGHT
END:VTIMEZONE
END:VCALENDAR