BEGIN:VCALENDAR
VERSION:2.0
PRODID:-//wp-events-plugin.com//7.2.3.1//EN
TZID:America/New_York
X-WR-TIMEZONE:America/New_York
BEGIN:VEVENT
UID:7066@congregationemanuel.org
DTSTART;TZID=America/New_York:20251005T190000
DTEND;TZID=America/New_York:20251005T203000
DTSTAMP:20251001T145029Z
URL:https://www.congregationemanuel.org/events/westchester-community-wide-
 commemoration-of-october-7th-at-temple-israel-center/
SUMMARY:Westchester Community Wide Commemoration of October 7th at Temple I
 srael Center
DESCRIPTION:Join together as a community for a commemoration marking two ye
 ars since the attacks of October 7\, 2023 - to remember\, to stand united\
 , to honor the lives that have been lost and to bring home the hostages. R
 egistration required here. Temple Israel Center is located at 280 Old Mama
 roneck Road in White Plains.
END:VEVENT
BEGIN:VTIMEZONE
TZID:America/New_York
X-LIC-LOCATION:America/New_York
BEGIN:DAYLIGHT
DTSTART:20250309T030000
TZOFFSETFROM:-0500
TZOFFSETTO:-0400
TZNAME:EDT
END:DAYLIGHT
END:VTIMEZONE
END:VCALENDAR