BEGIN:VCALENDAR
VERSION:2.0
PRODID:-//wp-events-plugin.com//7.2.3.1//EN
TZID:America/New_York
X-WR-TIMEZONE:America/New_York
BEGIN:VEVENT
UID:6798@congregationemanuel.org
DTSTART;TZID=America/New_York:20260123T170000
DTEND;TZID=America/New_York:20260123T220000
DTSTAMP:20251230T150430Z
URL:https://www.congregationemanuel.org/events/womens-study-group-retreat-
 7/
SUMMARY:Annual Women's Study Group Shabbat Retreat at the Interlaken Inn
DESCRIPTION:Friday\, January 23\, 5:00pm - Saturday\, January 24\, 5:00pm\n
 \nRegistration is now open for the Women’s Study Group annual retrea
 t. This extra special event provides a unique opportunity to connect\, ref
 lect\, renew\, and restore. Join us for a magical overnight getaway at th
 e Interlaken Inn in Lakeville\, CT. Cost (includes 3 meals): $480/person f
 or a single room or $375/person for a double room. Register here by Jan
 uary 5.
END:VEVENT
BEGIN:VTIMEZONE
TZID:America/New_York
X-LIC-LOCATION:America/New_York
BEGIN:STANDARD
DTSTART:20251102T010000
TZOFFSETFROM:-0400
TZOFFSETTO:-0500
TZNAME:EST
END:STANDARD
END:VTIMEZONE
END:VCALENDAR