BEGIN:VCALENDAR
VERSION:2.0
PRODID:-//wp-events-plugin.com//7.2.3.1//EN
TZID:America/New_York
X-WR-TIMEZONE:America/New_York
BEGIN:VEVENT
UID:6619@congregationemanuel.org
DTSTART;TZID=America/New_York:20251005T130000
DTEND;TZID=America/New_York:20251005T143000
DTSTAMP:20251001T144912Z
URL:https://www.congregationemanuel.org/events/womens-study-group-sukkot-l
 uncheon/
SUMMARY:Women's Study Group Lunch in the Sukkah
DESCRIPTION:Enjoy celebrating our festival of gratitude and abundance with 
 lunch\, learning\, and the company of friends. This year's guest leader wi
 ll be our Rabbinic Intern\, Zachary Canali. Cost: $25/person. RSVP here.
ATTACH;FMTTYPE=image/jpeg:https://www.congregationemanuel.org/wp-content/u
 ploads/2022/07/sukkot1.png
CATEGORIES:Featured Events
END:VEVENT
BEGIN:VTIMEZONE
TZID:America/New_York
X-LIC-LOCATION:America/New_York
BEGIN:DAYLIGHT
DTSTART:20250309T030000
TZOFFSETFROM:-0500
TZOFFSETTO:-0400
TZNAME:EDT
END:DAYLIGHT
END:VTIMEZONE
END:VCALENDAR