BEGIN:VCALENDAR
VERSION:2.0
PRODID:-//wp-events-plugin.com//7.2.3.1//EN
TZID:America/New_York
X-WR-TIMEZONE:America/New_York
BEGIN:VEVENT
UID:6722@congregationemanuel.org
DTSTART;TZID=America/New_York:20251207T104500
DTEND;TZID=America/New_York:20251207T114500
DTSTAMP:20251203T161651Z
URL:https://www.congregationemanuel.org/events/young-families-chanukah-cel
 ebration-3/
SUMMARY:Young Families Chanukah Celebration
DESCRIPTION:Parents accompany their children to this exciting morning packe
 d with dreidels\, gelt\, games\, crafts\, and lively music! This event is 
 designed specifically for kids ages 6 months through 2nd grade\, with plen
 ty of engaging activities tailored just for them. RSVP here.
ATTACH;FMTTYPE=image/jpeg:https://www.congregationemanuel.org/wp-content/u
 ploads/2021/07/yf-chanukah-1.jpg
CATEGORIES:Featured Events
END:VEVENT
BEGIN:VTIMEZONE
TZID:America/New_York
X-LIC-LOCATION:America/New_York
BEGIN:STANDARD
DTSTART:20251102T010000
TZOFFSETFROM:-0400
TZOFFSETTO:-0500
TZNAME:EST
END:STANDARD
END:VTIMEZONE
END:VCALENDAR