BEGIN:VCALENDAR
VERSION:2.0
PRODID:-//wp-events-plugin.com//7.2.3.1//EN
TZID:America/New_York
X-WR-TIMEZONE:America/New_York
BEGIN:VEVENT
UID:6857@congregationemanuel.org
DTSTART;TZID=America/New_York:20260301T110000
DTEND;TZID=America/New_York:20260301T130000
DTSTAMP:20260225T151504Z
URL:https://www.congregationemanuel.org/events/young-families-purim-carniv
 al/
SUMMARY:Purim Carnival
DESCRIPTION:Young families are invited to an early start at the Purim Carni
 val full of games\, snacks\, prizes\, and a ton of fun! See Emanumail to R
 SVP.
END:VEVENT
BEGIN:VTIMEZONE
TZID:America/New_York
X-LIC-LOCATION:America/New_York
BEGIN:STANDARD
DTSTART:20251102T010000
TZOFFSETFROM:-0400
TZOFFSETTO:-0500
TZNAME:EST
END:STANDARD
END:VTIMEZONE
END:VCALENDAR