BEGIN:VCALENDAR
VERSION:2.0
PRODID:-//wp-events-plugin.com//7.2.3.1//EN
TZID:America/New_York
X-WR-TIMEZONE:America/New_York
BEGIN:VEVENT
UID:6670@congregationemanuel.org
DTSTART;TZID=America/New_York:20251102T104500
DTEND;TZID=America/New_York:20251102T114500
DTSTAMP:20251029T154456Z
URL:https://www.congregationemanuel.org/events/young-families-shabbat-cele
 bration-2/
SUMMARY:Young Families Torah Celebration
DESCRIPTION:Young Families are invited to spend a morning learning about 
 the Torah and different stories through music\, crafts\, snacks\, and givi
 ng back! RSVP here.
ATTACH;FMTTYPE=image/jpeg:https://www.congregationemanuel.org/wp-content/u
 ploads/2025/07/yf-torah.jpg
CATEGORIES:Featured Events
END:VEVENT
BEGIN:VTIMEZONE
TZID:America/New_York
X-LIC-LOCATION:America/New_York
BEGIN:STANDARD
DTSTART:20251102T010000
TZOFFSETFROM:-0400
TZOFFSETTO:-0500
TZNAME:EST
END:STANDARD
END:VTIMEZONE
END:VCALENDAR