BEGIN:VCALENDAR
VERSION:2.0
PRODID:-//wp-events-plugin.com//7.2.3.1//EN
TZID:America/New_York
X-WR-TIMEZONE:America/New_York
BEGIN:VEVENT
UID:6620@congregationemanuel.org
DTSTART;TZID=America/New_York:20251005T104500
DTEND;TZID=America/New_York:20251005T114500
DTSTAMP:20251001T161641Z
URL:https://www.congregationemanuel.org/events/young-families-sukkot-celeb
 ration-2/
SUMMARY:Sukkot Celebration for Young Families
DESCRIPTION:Young Families are invited to celebrate Sukkot with a morning o
 f music\, crafts\, snacks\, and giving back! RSVP here.
ATTACH;FMTTYPE=image/jpeg:https://www.congregationemanuel.org/wp-content/u
 ploads/2024/06/yf-sukkot.jpg
CATEGORIES:Featured Events
END:VEVENT
BEGIN:VTIMEZONE
TZID:America/New_York
X-LIC-LOCATION:America/New_York
BEGIN:DAYLIGHT
DTSTART:20250309T030000
TZOFFSETFROM:-0500
TZOFFSETTO:-0400
TZNAME:EDT
END:DAYLIGHT
END:VTIMEZONE
END:VCALENDAR