BEGIN:VCALENDAR
VERSION:2.0
PRODID:-//wp-events-plugin.com//7.2.3.1//EN
TZID:America/New_York
X-WR-TIMEZONE:America/New_York
BEGIN:VEVENT
UID:6804@congregationemanuel.org
DTSTART;TZID=America/New_York:20260125T104500
DTEND;TZID=America/New_York:20260125T114500
DTSTAMP:20260121T153754Z
URL:https://www.congregationemanuel.org/events/young-families-tu-bishvat-c
 elebration-2/
SUMMARY:Young Families Celebrate Tu BiShvat
DESCRIPTION:Come and celebrate the new year of the trees with us! Join us f
 or crafts\, songs\, and snacks. RSVP required.
ATTACH;FMTTYPE=image/jpeg:https://www.congregationemanuel.org/wp-content/u
 ploads/2021/07/tubishvat.jpg
CATEGORIES:Featured Events
END:VEVENT
BEGIN:VTIMEZONE
TZID:America/New_York
X-LIC-LOCATION:America/New_York
BEGIN:STANDARD
DTSTART:20251102T010000
TZOFFSETFROM:-0400
TZOFFSETTO:-0500
TZNAME:EST
END:STANDARD
END:VTIMEZONE
END:VCALENDAR